{
 "currentVersion": 10.91,
 "serviceDescription": "Flygfoto tagna 2020-05-13 av Terratec",
 "name": "Bildtjanster/Image_service_Sotenas_2020_05_13_8cm",
 "description": "Flygfoto tagna 2020-05-13 av Terratec",
 "extent": {
  "xmin": 101000.00708799995,
  "ymin": 6466500.009228034,
  "xmax": 119000.00708799995,
  "ymax": 6487500.009228034,
  "spatialReference": {
   "wkid": 3007,
   "latestWkid": 3007
  }
 },
 "initialExtent": {
  "xmin": 101000.00708799995,
  "ymin": 6466500.009228034,
  "xmax": 119000.00708799995,
  "ymax": 6487500.009228034,
  "spatialReference": {
   "wkid": 3007,
   "latestWkid": 3007
  }
 },
 "fullExtent": {
  "xmin": 101000.00708799995,
  "ymin": 6466500.009228034,
  "xmax": 119000.00708799995,
  "ymax": 6487500.009228034,
  "spatialReference": {
   "wkid": 3007,
   "latestWkid": 3007
  }
 },
 "pixelSizeX": 0.08,
 "pixelSizeY": 0.08,
 "bandCount": 3,
 "pixelType": "U8",
 "minPixelSize": 0,
 "maxPixelSize": 0,
 "copyrightText": "",
 "serviceDataType": "esriImageServiceDataTypeRGB",
 "minValues": [],
 "maxValues": [],
 "meanValues": [],
 "stdvValues": [],
 "objectIdField": "",
 "fields": [],
 "capabilities": "Mensuration,Image,Metadata",
 "defaultMosaicMethod": "Center",
 "allowedMosaicMethods": "",
 "sortField": "",
 "sortValue": null,
 "sortAscending": true,
 "mosaicOperator": "First",
 "defaultCompressionQuality": 75,
 "defaultResamplingMethod": "Bilinear",
 "maxImageHeight": 4100,
 "maxImageWidth": 15000,
 "allowRasterFunction": true,
 "rasterFunctionInfos": [
  {
   "name": "None",
   "description": "",
   "help": ""
  }
 ],
 "rasterTypeInfos": [
  {
   "name": "Raster Dataset",
   "description": "Supports all ArcGIS Raster Datasets",
   "help": ""
  }
 ],
 "mensurationCapabilities": "Basic",
 "hasHistograms": false,
 "hasColormap": false,
 "hasRasterAttributeTable": false,
 "minScale": 0,
 "maxScale": 0,
 "exportTilesAllowed": false,
 "hasMultidimensions": false,
 "supportsStatistics": false,
 "supportsAdvancedQueries": false,
 "editFieldsInfo": null,
 "ownershipBasedAccessControlForRasters": null,
 "allowComputeTiePoints": false,
 "useStandardizedQueries": true,
 "advancedQueryCapabilities": {
  "useStandardizedQueries": true,
  "supportsStatistics": false,
  "supportsOrderBy": false,
  "supportsDistinct": false,
  "supportsPagination": false
 },
 "spatialReference": {
  "wkid": 3007,
  "latestWkid": 3007
 }
}
